BEGIN:VCALENDAR
VERSION:2.0
PRODID:-//L’Arche Portland - ECPv6.15.20//NONSGML v1.0//EN
CALSCALE:GREGORIAN
METHOD:PUBLISH
X-ORIGINAL-URL:https://www.larche-portland.org
X-WR-CALDESC:Events for L’Arche Portland
REFRESH-INTERVAL;VALUE=DURATION:PT1H
X-Robots-Tag:noindex
X-PUBLISHED-TTL:PT1H
BEGIN:VTIMEZONE
TZID:America/Los_Angeles
BEGIN:DAYLIGHT
TZOFFSETFROM:-0800
TZOFFSETTO:-0700
TZNAME:PDT
DTSTART:20240310T100000
END:DAYLIGHT
BEGIN:STANDARD
TZOFFSETFROM:-0700
TZOFFSETTO:-0800
TZNAME:PST
DTSTART:20241103T090000
END:STANDARD
BEGIN:DAYLIGHT
TZOFFSETFROM:-0800
TZOFFSETTO:-0700
TZNAME:PDT
DTSTART:20250309T100000
END:DAYLIGHT
BEGIN:STANDARD
TZOFFSETFROM:-0700
TZOFFSETTO:-0800
TZNAME:PST
DTSTART:20251102T090000
END:STANDARD
BEGIN:DAYLIGHT
TZOFFSETFROM:-0800
TZOFFSETTO:-0700
TZNAME:PDT
DTSTART:20260308T100000
END:DAYLIGHT
BEGIN:STANDARD
TZOFFSETFROM:-0700
TZOFFSETTO:-0800
TZNAME:PST
DTSTART:20261101T090000
END:STANDARD
BEGIN:DAYLIGHT
TZOFFSETFROM:-0800
TZOFFSETTO:-0700
TZNAME:PDT
DTSTART:20270314T100000
END:DAYLIGHT
BEGIN:STANDARD
TZOFFSETFROM:-0700
TZOFFSETTO:-0800
TZNAME:PST
DTSTART:20271107T090000
END:STANDARD
END:VTIMEZONE
BEGIN:VEVENT
DTSTART;TZID=America/Los_Angeles:20260402T180000
DTEND;TZID=America/Los_Angeles:20260402T193000
DTSTAMP:20260422T020933
CREATED:20260313T151650Z
LAST-MODIFIED:20260313T151650Z
UID:4999-1775152800-1775158200@www.larche-portland.org
SUMMARY:April Potluck & Circle of Light
DESCRIPTION:You’re invited to join us this spring as we are re-start a rhythm of monthly Spirituality nights at Neahkahnie House! \nYou can save the dates on your calendar – every first Thursday! \nWe will start with a Potluck dinner\, then gather around some candles in the living room to form a Circle of Light. \nThis will be a simple time of singing\, reflection on a reading or image\, and time for folks to share prayers aloud. \nThis month\, we will be practicing the awkward-but-meaningful tradition of foot washing. \n…Foot washing is a L’Arche tradition that helps us reflect on the ways we mutually serve one another each day. It is also a tradition practiced in the Christian Church during Holy Week\, to remember how Jesus modeled and called others to humble service. \n…No one is required to have their own feet washed. You’ll have the option of having your hand(s) washed\, one or both feet\, or simply observing and contemplating. \nPlease RSVP using this google form\, to receive the address\, and so that we can make the potluck becomes a balanced meal: \nhttps://forms.gle/dgMb54SiNuM79zgE9 \nIf you haven’t RSVP’d ahead\, we’d still love to have you! \n  \n 
URL:https://www.larche-portland.org/event/april-potluck-circle-of-light/
LOCATION:Neahkahnie House\, Portland\, Oregon\, 97216\, United States
CATEGORIES:Community Event,Potluck,Prayer Night,Spirituality,Spirituality Night
ATTACH;FMTTYPE=image/jpeg:https://www.larche-portland.org/wp-content/uploads/2026/03/IMG_2717-1-scaled.jpg
ORGANIZER;CN="L'Arche Portland":MAILTO:info@larche-portland.org
END:VEVENT
BEGIN:VEVENT
DTSTART;TZID=America/Los_Angeles:20260305T180000
DTEND;TZID=America/Los_Angeles:20260305T193000
DTSTAMP:20260422T020933
CREATED:20260216T232426Z
LAST-MODIFIED:20260216T232507Z
UID:4978-1772733600-1772739000@www.larche-portland.org
SUMMARY:First Thursday: Potluck and Circle of Light
DESCRIPTION:This spring\, we are starting a new rhythm of monthly Spirituality nights and monthly Craft nights! \nWe would love for you to join us on this inaugural first Thursday gathering at Neahkahnie House. \nWe will start with a Potluck dinner\, then gathering around some candles in the living room to form a Circle of Light. \nThis will be a simple time of singing\, reflection on a reading or image\, and time for folks to share prayers aloud. …This month\, our friends Rob\, Eileen\, and Joan will be leading us. \nPlease RSVP using this google form\, to receive the address\, and so that we can make the potluck becomes a balanced meal: https://forms.gle/JrvkFVbBbfaq2HQG7  \nIf you haven’t RSVP’d ahead\, we’d still love to have you!
URL:https://www.larche-portland.org/event/potluck-and-circle-of-light/
LOCATION:Neahkahnie House\, Portland\, Oregon\, 97216\, United States
CATEGORIES:Community Event,Potluck,Spirituality,Spirituality Night
ATTACH;FMTTYPE=image/jpeg:https://www.larche-portland.org/wp-content/uploads/2026/02/IMG_2099-1-scaled.jpg
ORGANIZER;CN="L'Arche Portland":MAILTO:info@larche-portland.org
END:VEVENT
BEGIN:VEVENT
DTSTART;TZID=America/Los_Angeles:20260113T180000
DTEND;TZID=America/Los_Angeles:20260113T200000
DTSTAMP:20260422T020933
CREATED:20251230T194050Z
LAST-MODIFIED:20251230T203636Z
UID:4957-1768327200-1768334400@www.larche-portland.org
SUMMARY:Ethiopian Epiphany Party!
DESCRIPTION:You’re invited to come learn about the tradition of Epiphany in the Eastern Orthodox Church and western Christian traditions (Catholic and Protestant)! \nThis has become an annual east-meets-west tradition at L’Arche Portland. We get the chance to each choose a “star word” to inspire the new year\, indulge in homemade Ethiopian food\, and reflect on the elements of light and water that infuse the eastern and western celebrations of Epiphany. \nPlease RSVP using the Google form by Fri 1/9\, so we plan for enough food and can accommodate any dietary restrictions.
URL:https://www.larche-portland.org/event/ethiopian-epiphany-party/
LOCATION:Lincoln Street United Methodist Church\, 5145 SE Lincoln Street\, Portland\, OR\, 97215\, United States
CATEGORIES:Spirituality Night
ATTACH;FMTTYPE=image/jpeg:https://www.larche-portland.org/wp-content/uploads/2025/12/ethiopian-food.jpg
ORGANIZER;CN="L'Arche Portland":MAILTO:info@larche-portland.org
END:VEVENT
BEGIN:VEVENT
DTSTART;TZID=America/Los_Angeles:20251007T170000
DTEND;TZID=America/Los_Angeles:20251007T190000
DTSTAMP:20260422T020933
CREATED:20250829T004125Z
LAST-MODIFIED:20251001T213659Z
UID:4898-1759856400-1759863600@www.larche-portland.org
SUMMARY:Spirituality Night: Blessing of Creatures
DESCRIPTION:Our community loves “fuzzies”! \nSo as many faith communities will be blessing their pets in honor of Saint Francis\, who held deep love for all creatures – we will also take the opportunity to bless the animals\, the plants\, the sky and earth – and the fellow humans – that surround us! \nYou are invited to bring your beloved pets\, plants\, a photo of a pet who isn’t able to join in-person\, or of a pet who has died. \nWe are partnering with Lincoln Street United Methodist Church for this special time of prayer and celebration. \nThe evening will start out in the Neahkahnie House backyard\, on the east side of Portland. \nThen we will move inside for a potluck dinner! \nRain location will either be pop-up tents or indoors for the entire event. \nPlease RSVP to rsvp@larche-portland.org to receive the Neahkahnie House address\, let us know if you’ll bring a potluck dish\, and anything that might be good to know about animals you might be bringing.
URL:https://www.larche-portland.org/event/spirituality-night-blessing-creatures/
LOCATION:Neahkahnie House\, Portland\, Oregon\, 97216\, United States
CATEGORIES:Spirituality Night
ATTACH;FMTTYPE=image/jpeg:https://www.larche-portland.org/wp-content/uploads/2025/08/Cindy-Moki-08.16-scaled.jpg
END:VEVENT
END:VCALENDAR