BEGIN:VCALENDAR
VERSION:2.0
PRODID:-//L’Arche Portland - ECPv6.15.20//NONSGML v1.0//EN
CALSCALE:GREGORIAN
METHOD:PUBLISH
X-ORIGINAL-URL:https://www.larche-portland.org
X-WR-CALDESC:Events for L’Arche Portland
REFRESH-INTERVAL;VALUE=DURATION:PT1H
X-Robots-Tag:noindex
X-PUBLISHED-TTL:PT1H
BEGIN:VTIMEZONE
TZID:America/New_York
BEGIN:DAYLIGHT
TZOFFSETFROM:-0500
TZOFFSETTO:-0400
TZNAME:EDT
DTSTART:20240310T070000
END:DAYLIGHT
BEGIN:STANDARD
TZOFFSETFROM:-0400
TZOFFSETTO:-0500
TZNAME:EST
DTSTART:20241103T060000
END:STANDARD
BEGIN:DAYLIGHT
TZOFFSETFROM:-0500
TZOFFSETTO:-0400
TZNAME:EDT
DTSTART:20250309T070000
END:DAYLIGHT
BEGIN:STANDARD
TZOFFSETFROM:-0400
TZOFFSETTO:-0500
TZNAME:EST
DTSTART:20251102T060000
END:STANDARD
BEGIN:DAYLIGHT
TZOFFSETFROM:-0500
TZOFFSETTO:-0400
TZNAME:EDT
DTSTART:20260308T070000
END:DAYLIGHT
BEGIN:STANDARD
TZOFFSETFROM:-0400
TZOFFSETTO:-0500
TZNAME:EST
DTSTART:20261101T060000
END:STANDARD
END:VTIMEZONE
BEGIN:VEVENT
DTSTART;TZID=America/New_York:20250823T170000
DTEND;TZID=America/New_York:20250823T200000
DTSTAMP:20260422T050857
CREATED:20250825T010219Z
LAST-MODIFIED:20250828T213744Z
UID:1423-1755968400-1755979200@www.larche-portland.org
SUMMARY:Gabriel House End-of-Summer Block Party
DESCRIPTION:What?: Gabriel House’s “party house” reputation continues with their annual Block Party tradition. There will be food\, music\, and lawn games! We will also dedicate a free little library and garden statue in Alex’s memory\, and celebrate farewells for our German volunteers! \nRSVP to party@larche-portland.org to receive address
URL:https://www.larche-portland.org/event/block-party/
LOCATION:Gabriel House\, Beaverton\, OR\, United States
CATEGORIES:Community Event
ATTACH;FMTTYPE=image/jpeg:https://www.larche-portland.org/wp-content/uploads/2025/04/IMG_4333-scaled-e1756161255391.jpg
END:VEVENT
END:VCALENDAR