BEGIN:VCALENDAR
VERSION:2.0
PRODID:-//L’Arche Portland - ECPv6.15.20//NONSGML v1.0//EN
CALSCALE:GREGORIAN
METHOD:PUBLISH
X-ORIGINAL-URL:https://www.larche-portland.org
X-WR-CALDESC:Events for L’Arche Portland
REFRESH-INTERVAL;VALUE=DURATION:PT1H
X-Robots-Tag:noindex
X-PUBLISHED-TTL:PT1H
BEGIN:VTIMEZONE
TZID:America/Los_Angeles
BEGIN:DAYLIGHT
TZOFFSETFROM:-0800
TZOFFSETTO:-0700
TZNAME:PDT
DTSTART:20250309T100000
END:DAYLIGHT
BEGIN:STANDARD
TZOFFSETFROM:-0700
TZOFFSETTO:-0800
TZNAME:PST
DTSTART:20251102T090000
END:STANDARD
BEGIN:DAYLIGHT
TZOFFSETFROM:-0800
TZOFFSETTO:-0700
TZNAME:PDT
DTSTART:20260308T100000
END:DAYLIGHT
BEGIN:STANDARD
TZOFFSETFROM:-0700
TZOFFSETTO:-0800
TZNAME:PST
DTSTART:20261101T090000
END:STANDARD
BEGIN:DAYLIGHT
TZOFFSETFROM:-0800
TZOFFSETTO:-0700
TZNAME:PDT
DTSTART:20270314T100000
END:DAYLIGHT
BEGIN:STANDARD
TZOFFSETFROM:-0700
TZOFFSETTO:-0800
TZNAME:PST
DTSTART:20271107T090000
END:STANDARD
END:VTIMEZONE
BEGIN:VEVENT
DTSTART;TZID=America/Los_Angeles:20260516T140000
DTEND;TZID=America/Los_Angeles:20260516T160000
DTSTAMP:20260423T015028
CREATED:20260325T045817Z
LAST-MODIFIED:20260325T045817Z
UID:5006-1778940000-1778947200@www.larche-portland.org
SUMMARY:Hungry for Hope: A Speaker Series Event
DESCRIPTION:Spend an afternoon with Sister Simone Campbell! \n“Community is at the heart of hope.” – Sister Simone Campbell \nJoin L’Arche Portland’s Spring fundraiser\, featuring nationally recognized advocate Sister Simone Campbell. Sister Simone will share reflections on hope\, justice\, and the power of community. \nTogether we will raise essential funds to support a place where people with and without intellectual disabilities share life and build a community of belonging. \n10% of ALL Hungry for Hope event donations will be donated to PIRC (Portland Immigrant Rights Coalition). \nBuy tickets HERE: https://secure.qgiv.com/for/hungryforhope/event/hungryforhope/
URL:https://www.larche-portland.org/event/hungry-for-hope-a-speaker-series-event/
LOCATION:Grace Memorial Episcopal Church\, 1535 NE 17th Ave\, Portland\, OR\, 97232\, United States
CATEGORIES:Fundraiser,Spirituality
ATTACH;FMTTYPE=image/jpeg:https://www.larche-portland.org/wp-content/uploads/2026/03/sistersimone.jpeg
ORGANIZER;CN="L'Arche Portland":MAILTO:info@larche-portland.org
END:VEVENT
END:VCALENDAR